BEGIN:VCALENDAR
VERSION:2.0
PRODID:-//Rose Music Center at The Heights//rosemusiccenter.com//EN
CALSCALE:GREGORIAN
BEGIN:VEVENT
UID:https://rosemusiccenter.com/events/2026/08/totally-tubular-festival#46
DTSTAMP:20260421T072017Z
SUMMARY:Totally Tubular Festival
DTSTART;TZID=America/New_York:20260815T180000
DTEND;TZID=America/New_York:20260815T210000
DESCRIPTION:with Thomas Dolby & The Lost Toy People\, A Flock of Seagulls\,
  The Motels\, The Producers\, Animotion\, The Escape Club\, Tommy Tutone
LOCATION:Rose Music Center at The Heights\n6800 Executive Boulevard\nHuber 
 Heights\, OH 45424
URL;VALUE=URI:https://rosemusiccenter.com/events/2026/08/totally-tubular-fe
 stival
END:VEVENT
END:VCALENDAR
