BEGIN:VCALENDAR
VERSION:2.0
PRODID:-//Rose Music Center at The Heights//rosemusiccenter.com//EN
CALSCALE:GREGORIAN
BEGIN:VEVENT
UID:https://rosemusiccenter.com/events/2026/08/bret-michaels-live-and-ampli
 fied-2026#47
DTSTAMP:20260421T032944Z
SUMMARY:BRET MICHAELS: Live and Amplified 2026
DTSTART;TZID=America/New_York:20260829T190000
DTEND;TZID=America/New_York:20260829T220000
DESCRIPTION:with Bret Michaels\, Great White
LOCATION:Rose Music Center at The Heights\n6800 Executive Boulevard\nHuber 
 Heights\, OH 45424
URL;VALUE=URI:https://rosemusiccenter.com/events/2026/08/bret-michaels-live
 -and-amplified-2026
END:VEVENT
END:VCALENDAR
